BEGIN:VCALENDAR
VERSION:2.0
PRODID:-//wp-events-plugin.com//7.2.3.1//EN
BEGIN:VEVENT
UID:24@ol-edling.de
DTSTART;TZID=Europe/Berlin:20241027T000000
DTEND;TZID=Europe/Berlin:20241027T000000
DTSTAMP:20241016T203122Z
URL:https://ol-edling.de/events/10-munich-o-cup/
SUMMARY:10. Munich O-Cup
DESCRIPTION:Ort: Unterschleißheim\nAusschreibung\nMeldung bis Donnerstag d
 en 24.10.2024
ATTACH;FMTTYPE=image/jpeg:https://ol-edling.de/wp-content/uploads/2024/05/
 Unbenannt-e1715873124100.png
CATEGORIES:Wettkampf
END:VEVENT
BEGIN:VTIMEZONE
TZID:Europe/Berlin
X-LIC-LOCATION:Europe/Berlin
BEGIN:DAYLIGHT
DTSTART:20240331T030000
TZOFFSETFROM:+0100
TZOFFSETTO:+0200
TZNAME:CEST
END:DAYLIGHT
END:VTIMEZONE
END:VCALENDAR