BEGIN:VCALENDAR
VERSION:2.0
PRODID:-//wp-events-plugin.com//7.2.3.1//EN
BEGIN:VEVENT
UID:33@ol-edling.de
DTSTART;TZID=Europe/Berlin:20250406T123000
DTEND;TZID=Europe/Berlin:20250406T170000
DTSTAMP:20241212T215831Z
URL:https://ol-edling.de/events/15-ebersberger-seelauf/
SUMMARY:15. Ebersberger Seelauf
DESCRIPTION:Ausschreibung\nAnmeldung bis zum 02.04.2025\n\nKinderläufe –
  ab 13.30 Uhr\nAlle lauffreudigen JungathletenInnen der Jahrgänge 2012 bi
 s 2019 können an den Kinderläufen teilnehmen. Der Jahrgang 2020 ist laut
  DLV-Empfehlung noch nicht startberechtigt.\n\nKlasseneinteilung für die 
 Läufe\, weiblich und männlich zusammen\n\n\n\nKlasse\nJahrgang von\nJahr
 gang bis\nStrecke\nStartzeit\nStartgeld\n\n\nAussichtsturmrunde\n\n\nU14\n
 2012\n2013\n2150 m\n13:30\n8\,00 €\n\n\nKleine Parkrunde\n\n\nU8\n2018\n
 2019\n800 m\n14:40\n7\,00 €\n\n\nGroße Parkrunde\n\n\nU10\n2016\n2017\n
 1400 m\n15:20\n8\,00 €\n\n\nU12\n2014\n2015\n1400 m\n16:00\n8\,00 €\n\
 n\n\nFür die Kinderläufe gilt das in der Tabelle angegebene Startgeld be
 i Meldung bis zum 02.04.2025. Bei Anmeldung am Wettkampftag erheben wir e
 ine Nachmeldegebühr von 2\,- €.
ATTACH;FMTTYPE=image/jpeg:https://ol-edling.de/wp-content/uploads/2024/12/
 LG90-e1734040078966.jpg
CATEGORIES:Wettkampf
END:VEVENT
BEGIN:VTIMEZONE
TZID:Europe/Berlin
X-LIC-LOCATION:Europe/Berlin
BEGIN:DAYLIGHT
DTSTART:20250330T030000
TZOFFSETFROM:+0100
TZOFFSETTO:+0200
TZNAME:CEST
END:DAYLIGHT
END:VTIMEZONE
END:VCALENDAR