BEGIN:VCALENDAR
VERSION:2.0
PRODID:-//wp-events-plugin.com//7.2.3.1//EN
BEGIN:VEVENT
UID:13@ol-edling.de
DTSTART;TZID=Europe/Berlin:20240915T100000
DTEND;TZID=Europe/Berlin:20240915T123000
DTSTAMP:20240901T120811Z
URL:https://ol-edling.de/events/5-lauf-zum-isar-cup-2024-gaumeist-turngau-
 landshut/
SUMMARY:5. Lauf zum Isar-Cup 2024 & Gaumeist. Turngau Landshut
DESCRIPTION:Ausschreibung\n&nbsp\;\nAnmeldung idealerweise bis Montag\, 08.
 09.2024\, mit erhöhtem Startgeld bis Donnerstag\, 12.09.2024\n&nbsp\;\n
ATTACH;FMTTYPE=image/jpeg:https://ol-edling.de/wp-content/uploads/2024/09/
 wappen_olv_140.png
CATEGORIES:Wettkampf
END:VEVENT
BEGIN:VTIMEZONE
TZID:Europe/Berlin
X-LIC-LOCATION:Europe/Berlin
BEGIN:DAYLIGHT
DTSTART:20240331T030000
TZOFFSETFROM:+0100
TZOFFSETTO:+0200
TZNAME:CEST
END:DAYLIGHT
END:VTIMEZONE
END:VCALENDAR