BEGIN:VCALENDAR
VERSION:2.0
PRODID:-//wp-events-plugin.com//7.2.3.1//EN
BEGIN:VEVENT
UID:3@ol-edling.de
DTSTART;TZID=Europe/Berlin:20240526T100000
DTEND;TZID=Europe/Berlin:20240526T120000
DTSTAMP:20240516T110337Z
URL:https://ol-edling.de/events/5-munich-o-cup-2024-nachholtermin/
SUMMARY:5. Munich O-Cup 2024 (Nachholtermin)
DESCRIPTION:
CATEGORIES:Wettkampf
LOCATION:https://omanager.o-sport.de/service/f?p=105:7:::NO::P7_ID:54144
END:VEVENT
BEGIN:VTIMEZONE
TZID:Europe/Berlin
X-LIC-LOCATION:Europe/Berlin
BEGIN:DAYLIGHT
DTSTART:20240331T030000
TZOFFSETFROM:+0100
TZOFFSETTO:+0200
TZNAME:CEST
END:DAYLIGHT
END:VTIMEZONE
END:VCALENDAR