BEGIN:VCALENDAR
VERSION:2.0
PRODID:-//wp-events-plugin.com//7.2.3.1//EN
BEGIN:VEVENT
UID:6@ol-edling.de
DTSTART;TZID=Europe/Berlin:20240623T090000
DTEND;TZID=Europe/Berlin:20240623T153000
DTSTAMP:20240603T173222Z
URL:https://ol-edling.de/events/6-bayerncup-ol-2024-sprint-ol/
SUMMARY:6. BayernCup-OL 2024 (Sprint-OL)
DESCRIPTION:\n\n\n\n\n\n\nDatum\nSo\, 23.06.2024\n\n\nOrt\nMünchen\n\n\nVe
 ranstalter\nOC München\n\n\nBeschreibung\nAusschreibung-BC-Munchen_Olympi
 adorf-2024_v1.pdf\n\n\nMeldung\nIm O-Manager [link]\n\n\nMeldeschluss\nMi\
 , 19.06.2024\n\n\n\n
CATEGORIES:Wettkampf
END:VEVENT
BEGIN:VTIMEZONE
TZID:Europe/Berlin
X-LIC-LOCATION:Europe/Berlin
BEGIN:DAYLIGHT
DTSTART:20240331T030000
TZOFFSETFROM:+0100
TZOFFSETTO:+0200
TZNAME:CEST
END:DAYLIGHT
END:VTIMEZONE
END:VCALENDAR