BEGIN:VCALENDAR
VERSION:2.0
PRODID:-//wp-events-plugin.com//7.2.3.1//EN
BEGIN:VEVENT
UID:15@ol-edling.de
DTSTART;TZID=Europe/Berlin:20240928T130000
DTEND;TZID=Europe/Berlin:20240928T150000
DTSTAMP:20240922T091959Z
URL:https://ol-edling.de/events/6-lauf-zum-isar-cup-2024/
SUMMARY:6. Lauf zum Isar-Cup 2024
DESCRIPTION:Ort: Kumhauser Forst Berndorf\, nähe Landshut\n\nAusschreibung
 \n&nbsp\;\nAnmeldung idealerweise bis Montag\, 23.09.2024\, mit erhöhtem 
 Startgeld bis Donnerstag\, 26.09.2024\n&nbsp\;\n
ATTACH;FMTTYPE=image/jpeg:https://ol-edling.de/wp-content/uploads/2024/09/
 wappen_olv_140.png
CATEGORIES:Wettkampf
END:VEVENT
BEGIN:VTIMEZONE
TZID:Europe/Berlin
X-LIC-LOCATION:Europe/Berlin
BEGIN:DAYLIGHT
DTSTART:20240331T030000
TZOFFSETFROM:+0100
TZOFFSETTO:+0200
TZNAME:CEST
END:DAYLIGHT
END:VTIMEZONE
END:VCALENDAR