BEGIN:VCALENDAR
VERSION:2.0
PRODID:-//wp-events-plugin.com//7.2.3.1//EN
BEGIN:VEVENT
UID:22@ol-edling.de
DTSTART;TZID=Europe/Berlin:20241103T100000
DTEND;TZID=Europe/Berlin:20241103T123000
DTSTAMP:20240901T135703Z
URL:https://ol-edling.de/events/6-lauf-zur-rolt-2024/
SUMMARY:6. Lauf zur ROLT 2024
DESCRIPTION:Ort: Räuberhöhle – Nittendorf
ATTACH;FMTTYPE=image/jpeg:https://ol-edling.de/wp-content/uploads/2024/09/
 Header_D3.2-1.png
CATEGORIES:Wettkampf
END:VEVENT
BEGIN:VTIMEZONE
TZID:Europe/Berlin
X-LIC-LOCATION:Europe/Berlin
BEGIN:STANDARD
DTSTART:20241027T020000
TZOFFSETFROM:+0200
TZOFFSETTO:+0100
TZNAME:CET
END:STANDARD
END:VTIMEZONE
END:VCALENDAR