BEGIN:VCALENDAR
VERSION:2.0
PRODID:-//wp-events-plugin.com//7.2.3.1//EN
BEGIN:VEVENT
UID:11@ol-edling.de
DTSTART;TZID=Europe/Berlin:20240913T160000
DTEND;TZID=Europe/Berlin:20240913T180000
DTSTAMP:20240909T202741Z
URL:https://ol-edling.de/events/6-training/
SUMMARY:Training auf der Schmiedwiese - Reitmehring
DESCRIPTION:Training im Wohngebiet Schmiedwiese! \n\n 	Wann: 09.2024 – 16
  Uhr\n 	Treffpunkt: am Spielplatz Schmiedwiese\n 	Wer:\nAlle Altersgruppen
  und Fitnesslevel sind willkommen! Egal\, ob Du schon Orientierungslauf-Er
 fahrung\nhast oder einfach mal etwas Neues ausprobieren möchtest – jede
 r kann mitmachen.\n\n\n 	Was erwartet Dich?\n\n 	Einführung in den Orient
 ierungslauf (OL)\n 	Training im sicheren Wohngebiet\n 	Spaß und Bewegung 
 an der frischen Luft\n 	Verbesserung von Fitness und Konzentration\n\n\n\n
 \n 	Mitbringen:\n\n 	Sportliche Kleidung\n 	Bequeme Laufschuhe\n 	Gute Lau
 ne!\n 	(Optional: eigene Kompass- oder OL-Ausrüstung)\n\n\n\nAnmeldung bi
 s zum 12.09.2024 gewünscht\, aber auch spontane Teilnahme möglich.\n\n&n
 bsp\;\n
ATTACH;FMTTYPE=image/jpeg:https://ol-edling.de/wp-content/uploads/2024/05/
 katzgrins.jpg
CATEGORIES:Training
END:VEVENT
BEGIN:VTIMEZONE
TZID:Europe/Berlin
X-LIC-LOCATION:Europe/Berlin
BEGIN:DAYLIGHT
DTSTART:20240331T030000
TZOFFSETFROM:+0100
TZOFFSETTO:+0200
TZNAME:CEST
END:DAYLIGHT
END:VTIMEZONE
END:VCALENDAR