BEGIN:VCALENDAR
VERSION:2.0
PRODID:-//wp-events-plugin.com//7.2.3.1//EN
BEGIN:VEVENT
UID:16@ol-edling.de
DTSTART;TZID=Europe/Berlin:20240929T103000
DTEND;TZID=Europe/Berlin:20240929T113000
DTSTAMP:20240922T092549Z
URL:https://ol-edling.de/events/9-munich-o-cup/
SUMMARY:9. Munich O-Cup
DESCRIPTION:Ausschreibung\n&nbsp\;\nAnmeldung bis Donnerstag\, 26.09.2024\n
 &nbsp\;\n
ATTACH;FMTTYPE=image/jpeg:https://ol-edling.de/wp-content/uploads/2024/05/
 Unbenannt-e1715873124100.png
CATEGORIES:Wettkampf
END:VEVENT
BEGIN:VTIMEZONE
TZID:Europe/Berlin
X-LIC-LOCATION:Europe/Berlin
BEGIN:DAYLIGHT
DTSTART:20240331T030000
TZOFFSETFROM:+0100
TZOFFSETTO:+0200
TZNAME:CEST
END:DAYLIGHT
END:VTIMEZONE
END:VCALENDAR