BEGIN:VCALENDAR
VERSION:2.0
PRODID:-//wp-events-plugin.com//7.2.3.1//EN
BEGIN:VEVENT
UID:23@ol-edling.de
DTSTART;TZID=Europe/Berlin:20241020T100000
DTEND;TZID=Europe/Berlin:20241020T123000
DTSTAMP:20240901T142208Z
URL:https://ol-edling.de/events/bayerische-meisterschaft-lang-ol-2024-7-bc
 -2024/
SUMMARY:Bayerische Meisterschaft Lang-OL 2024 & 7. BC 2024
DESCRIPTION:Ort: Wald / Oberpfalz\nAusschreibung\n&nbsp\;\nMeldung bis Mitt
 woch den 09.10.2024
ATTACH;FMTTYPE=image/jpeg:https://ol-edling.de/wp-content/uploads/2024/09/
 btv_gold_medaille.png
CATEGORIES:Wettkampf
END:VEVENT
BEGIN:VTIMEZONE
TZID:Europe/Berlin
X-LIC-LOCATION:Europe/Berlin
BEGIN:DAYLIGHT
DTSTART:20240331T030000
TZOFFSETFROM:+0100
TZOFFSETTO:+0200
TZNAME:CEST
END:DAYLIGHT
END:VTIMEZONE
END:VCALENDAR