BEGIN:VCALENDAR
VERSION:2.0
PRODID:-//wp-events-plugin.com//7.2.3.1//EN
BEGIN:VEVENT
UID:32@ol-edling.de
DTSTART;TZID=Europe/Berlin:20250125T110000
DTEND;TZID=Europe/Berlin:20250125T123000
DTSTAMP:20241212T213706Z
URL:https://ol-edling.de/events/crosslauf-waldkraiburg/
SUMMARY:Crosslauf - Waldkraiburg
DESCRIPTION:Ausschreibung\nAnmeldung bis zum 23.01.2025\n\nZeitplan\n\n\n\n
 Gruppe\nAltersklasse \nJahrgang\nLänge ca.\nStartzeit\n\n\nweibliche Kin
 der\nW8\n2017 u. jünger\n650 m\n11:30\n\n\nweibliche Kinder\nW9\n2016\n65
 0 m\n11:40\n\n\nmännliche Kinder\nM8\n2017 u. jünger\n650 m\n11:50\n\n\n
 männliche Kinder\nM9\n2016\n650 m\n12:00\n\n\nweibliche Kinder\nU12\n14/1
 5\n1.300 m\n12:10\n\n\nmännliche Kinder\nU12\n14/15\n1.300 m\n12:20\n\n\n
 weibliche Jugend\nU14\nU16\n12/13\n10/11\n2.000 m\n12:30\n\n\nmännliche J
 ugend\nU14\nU16\n12/13\n10/11\n2.000 m\n12:45\n\n\nweibliche Jugend\nmänn
 liche Jugend\nweibliche Jugend\nHobby-Lauf\nU18\nU18\nU20\nalle AK\n08/09\
 n08/09\n06/07\nalle\n2.400 m\n13:00\n\n\nmännliche Jugend\nFrauen aktiv\n
 Frauen AK\nMänner AK\nU20\nF\nW30 u. älter\nM65 u. älter\n06/07\n05-96\
 n95 u. älter\n60 u. älter\n4.100 m\n13:20\n\n\nMänner aktiv\nMänner bi
 s AK 60\nM\nM30-M60\n05-96\n95-61\n7.800 m\n14:00\n\n\n
ATTACH;FMTTYPE=image/jpeg:https://ol-edling.de/wp-content/uploads/2024/12/
 Screenshot-2024-12-12-223546-e1734039392452.jpg
CATEGORIES:Wettkampf
END:VEVENT
BEGIN:VTIMEZONE
TZID:Europe/Berlin
X-LIC-LOCATION:Europe/Berlin
BEGIN:STANDARD
DTSTART:20241027T020000
TZOFFSETFROM:+0200
TZOFFSETTO:+0100
TZNAME:CET
END:STANDARD
END:VTIMEZONE
END:VCALENDAR