BEGIN:VCALENDAR
VERSION:2.0
PRODID:-//wp-events-plugin.com//7.2.3.1//EN
BEGIN:VEVENT
UID:1@ol-edling.de
DTSTART;TZID=Europe/Berlin:20240827T090000
DTEND;TZID=Europe/Berlin:20240827T120000
DTSTAMP:20240710T164822Z
URL:https://ol-edling.de/events/ferien-ol/
SUMMARY:Ferien-OL
DESCRIPTION:Dieses Jahr werden wir zum ersten Mal auch beim Ferienprogramm 
 in Edling mitmachen. Unseren Ferien-OL werden wir am 27.08.2024 von 9 – 
 12 Uhr durchführen. Wir freuen uns besonders\, dass wir dazu den Sportpla
 tz des DJK SV Edling\, vielen Dank an dieser Stelle\, nutzen dürfen. Elte
 rn und Erziehungsberechtige können Ihr Kinder auf dem Portal über den un
 ten aufgeführten QR-Code anmelden. Die Frist im Portal endet am 20.08.202
 4. Danach bitte ich um eine direkte Kontaktaufnahme über die im Impressum
  aufgeführten Kontaktdaten.\n\n\n
CATEGORIES:Training
END:VEVENT
BEGIN:VTIMEZONE
TZID:Europe/Berlin
X-LIC-LOCATION:Europe/Berlin
BEGIN:DAYLIGHT
DTSTART:20240331T030000
TZOFFSETFROM:+0100
TZOFFSETTO:+0200
TZNAME:CEST
END:DAYLIGHT
END:VTIMEZONE
END:VCALENDAR