BEGIN:VCALENDAR
VERSION:2.0
PRODID:-//wp-events-plugin.com//7.2.3.1//EN
BEGIN:VEVENT
UID:7@ol-edling.de
DTSTART;TZID=Europe/Berlin:20241003T100000
DTEND;TZID=Europe/Berlin:20241003T110000
DTSTAMP:20240922T093100Z
URL:https://ol-edling.de/events/jubilaeums-ol-20-jahre-ol-in-landshut-2-0/
SUMMARY:Jubiläums-OL "20 Jahre OL in Landshut 2.0"
DESCRIPTION:Ausschreibung\n&nbsp\;\nAnmeldung bis Montag\, 30.09.2024.\n&nb
 sp\;\n\n\n\n\n
ATTACH;FMTTYPE=image/jpeg:https://ol-edling.de/wp-content/uploads/2024/09/
 wappen_olv_140.png
CATEGORIES:Wettkampf
END:VEVENT
BEGIN:VTIMEZONE
TZID:Europe/Berlin
X-LIC-LOCATION:Europe/Berlin
BEGIN:DAYLIGHT
DTSTART:20240331T030000
TZOFFSETFROM:+0100
TZOFFSETTO:+0200
TZNAME:CEST
END:DAYLIGHT
END:VTIMEZONE
END:VCALENDAR