BEGIN:VCALENDAR
VERSION:2.0
PRODID:-//wp-events-plugin.com//7.2.3.1//EN
BEGIN:VEVENT
UID:8@ol-edling.de
DTSTART;TZID=Europe/Berlin:20240719T160000
DTEND;TZID=Europe/Berlin:20240719T180000
DTSTAMP:20240715T191309Z
URL:https://ol-edling.de/events/letztes-training-vor-den-ferien/
SUMMARY:letztes Training vor den Ferien
DESCRIPTION:Ort: Reitmehring\, Schmiedwiese\n\n
CATEGORIES:Training
END:VEVENT
BEGIN:VTIMEZONE
TZID:Europe/Berlin
X-LIC-LOCATION:Europe/Berlin
BEGIN:DAYLIGHT
DTSTART:20240331T030000
TZOFFSETFROM:+0100
TZOFFSETTO:+0200
TZNAME:CEST
END:DAYLIGHT
END:VTIMEZONE
END:VCALENDAR