BEGIN:VCALENDAR
VERSION:2.0
PRODID:-//wp-events-plugin.com//7.2.3.1//EN
BEGIN:VEVENT
UID:29@ol-edling.de
DTSTART;TZID=Europe/Berlin:20241122T153000
DTEND;TZID=Europe/Berlin:20241122T170000
DTSTAMP:20241118T220921Z
URL:https://ol-edling.de/events/training-10/
SUMMARY:Training
DESCRIPTION:Training im Wald! \n\n\n 	Wann: 22.11.2024 – 15:30 Uhr\n 	Tre
 ffpunkt: im Wald zwischen Edling und Pfaffing\, nördlich der Verbindungss
 traße (siehe Ausschnitt aus google)\n 	Wer:\nAlle Altersgruppen und Fitne
 sslevel sind willkommen! Egal\, ob Du schon Orientierungslauf-Erfahrung\nh
 ast oder einfach mal etwas Neues ausprobieren möchtest – jeder kann mit
 machen.\n\n\n 	Was erwartet Dich?\n\n 	\n\n 	Einführung in den Orientieru
 ngslauf (OL)\n 	leichte und einfache Trainingsbahnen im Wald\n 	Spaß und 
 Bewegung an der frischen Luft\n 	Verbesserung von Fitness und Konzentratio
 n\n\n\n\n\n\n\n 	Mitbringen:\n\n 	\n\n 	Sportliche Kleidung (Witterungsabh
 ängig)\n 	Bequeme Laufschuhe + Wechselschuhe und -socken\n 	Gute Laune!\n
  	(Optional: eigene Kompass- oder OL-Ausrüstung)\n 	Stirnleuchte oder Tas
 chenlampe (für den Heimweg)\n\n\n\n\n\nAnmeldung bis zum 21.11.2024 gewü
 nscht\, aber auch spontane Teilnahme möglich.\n
ATTACH;FMTTYPE=image/jpeg:https://ol-edling.de/wp-content/uploads/2024/10/
 Screenshot-2024-11-18-230142.jpg
CATEGORIES:Training
END:VEVENT
BEGIN:VTIMEZONE
TZID:Europe/Berlin
X-LIC-LOCATION:Europe/Berlin
BEGIN:STANDARD
DTSTART:20241027T020000
TZOFFSETFROM:+0200
TZOFFSETTO:+0100
TZNAME:CET
END:STANDARD
END:VTIMEZONE
END:VCALENDAR