BEGIN:VCALENDAR
VERSION:2.0
PRODID:-//wp-events-plugin.com//7.2.3.1//EN
BEGIN:VEVENT
UID:19@ol-edling.de
DTSTART;TZID=Europe/Berlin:20241206T160000
DTEND;TZID=Europe/Berlin:20241206T190000
DTSTAMP:20241204T200955Z
URL:https://ol-edling.de/events/training-6/
SUMMARY:Training
DESCRIPTION:
ATTACH;FMTTYPE=image/jpeg:https://ol-edling.de/wp-content/uploads/2024/09/
 Lindenpark.jpg
END:VEVENT
BEGIN:VTIMEZONE
TZID:Europe/Berlin
X-LIC-LOCATION:Europe/Berlin
BEGIN:STANDARD
DTSTART:20241027T020000
TZOFFSETFROM:+0200
TZOFFSETTO:+0100
TZNAME:CET
END:STANDARD
END:VTIMEZONE
END:VCALENDAR