BEGIN:VCALENDAR
VERSION:2.0
PRODID:-//wp-events-plugin.com//7.2.3.1//EN
BEGIN:VEVENT
UID:27@ol-edling.de
DTSTART;TZID=Europe/Berlin:20241101T153000
DTEND;TZID=Europe/Berlin:20241101T170000
DTSTAMP:20241101T092850Z
URL:https://ol-edling.de/events/training-8/
SUMMARY:Training
DESCRIPTION:&nbsp\;\nEilmeldung: Training am 01.11.2024 fällt aus! \nTrain
 ing im Wald! \n\n\n 	Wann: 01.11.2024 – 15:30 Uhr\n 	Treffpunkt: im Wald
  zwischen Edling und Pfaffing\, nördlich der Verbindungsstraße (siehe Au
 sschnitt aus google)\n 	Wer:\nAlle Altersgruppen und Fitnesslevel sind wil
 lkommen! Egal\, ob Du schon Orientierungslauf-Erfahrung\nhast oder einfach
  mal etwas Neues ausprobieren möchtest – jeder kann mitmachen.\n\n\n 	W
 as erwartet Dich?\n\n 	\n\n 	Einführung in den Orientierungslauf (OL)\n 	
 leichte und einfache Trainingsbahnen im Wald\n 	Spaß und Bewegung an der 
 frischen Luft\n 	Verbesserung von Fitness und Konzentration\n\n\n\n\n\n\n 
 	Mitbringen:\n\n 	\n\n 	Sportliche Kleidung (Witterungsabhängig)\n 	Beque
 me Laufschuhe + Wechselschuhe und -socken\n 	Gute Laune!\n 	(Optional: eig
 ene Kompass- oder OL-Ausrüstung)\n\n\n\n\n\nAnmeldung bis zum 31.10.2024 
 gewünscht\, aber auch spontane Teilnahme möglich.\n
ATTACH;FMTTYPE=image/jpeg:https://ol-edling.de/wp-content/uploads/2024/10/
 IMG20240927172231-scaled-e1730150423123.jpg
CATEGORIES:Training
END:VEVENT
BEGIN:VTIMEZONE
TZID:Europe/Berlin
X-LIC-LOCATION:Europe/Berlin
BEGIN:STANDARD
DTSTART:20241027T020000
TZOFFSETFROM:+0200
TZOFFSETTO:+0100
TZNAME:CET
END:STANDARD
END:VTIMEZONE
END:VCALENDAR