BEGIN:VCALENDAR
VERSION:2.0
PRODID:-//wp-events-plugin.com//7.2.3.1//EN
BEGIN:VEVENT
UID:28@ol-edling.de
DTSTART;TZID=Europe/Berlin:20241108T153000
DTEND;TZID=Europe/Berlin:20241108T170000
DTSTAMP:20241105T081523Z
URL:https://ol-edling.de/events/training-9/
SUMMARY:Training
DESCRIPTION:Training im urbanen Gelände! \n\n\n 	Wann: 08.11.2024 – 15:3
 0 Uhr\n 	Treffpunkt: Spielplatz am Zugspitzweg in Edling (siehe Ausschnitt
  aus google.de)\n 	Wer:\nAlle Altersgruppen und Fitnesslevel sind willkomm
 en! Egal\, ob Du schon Orientierungslauf-Erfahrung\nhast oder einfach mal 
 etwas Neues ausprobieren möchtest – jeder kann mitmachen.\n\n\n 	Was er
 wartet Dich?\n\n 	\n\n 	Einführung in den Orientierungslauf (OL)\n 	leich
 te und einfache Trainingsbahnen im Wohngebiet\n 	Spaß und Bewegung an der
  frischen Luft\n 	Verbesserung von Fitness und Konzentration\n\n\n\n\n\n\n
  	Mitbringen:\n\n 	\n\n 	Sportliche Kleidung (Witterungsabhängig)\n 	Bequ
 eme Laufschuhe + Wechselschuhe und -socken\n 	Gute Laune!\n 	(Optional: ei
 gene Kompass- oder OL-Ausrüstung)\n\n\n\n\n\nAnmeldung bis zum 07.11.2024
  gewünscht\, aber auch spontane Teilnahme möglich.\n
ATTACH;FMTTYPE=image/jpeg:https://ol-edling.de/wp-content/uploads/2024/06/
 IMG20240607153323-scaled-e1730151009696.jpg
CATEGORIES:Training
END:VEVENT
BEGIN:VTIMEZONE
TZID:Europe/Berlin
X-LIC-LOCATION:Europe/Berlin
BEGIN:STANDARD
DTSTART:20241027T020000
TZOFFSETFROM:+0200
TZOFFSETTO:+0100
TZNAME:CET
END:STANDARD
END:VTIMEZONE
END:VCALENDAR