BEGIN:VCALENDAR
VERSION:2.0
PRODID:-//wp-events-plugin.com//7.2.3.1//EN
BEGIN:VEVENT
UID:30@ol-edling.de
DTSTART;TZID=Europe/Berlin:20241018T160000
DTEND;TZID=Europe/Berlin:20241018T180000
DTSTAMP:20241014T184925Z
URL:https://ol-edling.de/events/training-im-wald-2/
SUMMARY:Training im Wald
DESCRIPTION:Training im Wald! \n\n\n 	Wann: 18.10.2024 – 16 Uhr\n 	Treffp
 unkt: am Wald nähe Geschwendt (auf der anderen Seite der Bahnlinie)\, lau
 t Google-Ausschnitt ist dies die Bahnstraße\n 	Wer:\njede Altersgruppe un
 d jedes Fitnesslevel sind willkommen! Egal\, ob Du schon Orientierungslauf
 -Erfahrung\nhast oder einfach mal etwas Neues ausprobieren möchtest – j
 eder kann mitmachen.\n\n\n 	Was erwartet Dich?\n\n 	\n\n 	Einführung in d
 en Orientierungslauf (OL)\n 	leichte und einfache Trainingsbahnen im Wald\
 n 	Spaß und Bewegung an der frischen Luft\n 	Verbesserung von Fitness und
  Konzentration\n\n\n\n\n\n\n 	Mitbringen:\n\n 	\n\n 	Sportliche Kleidung (
 Witterungsabhängig)\n 	Bequeme Laufschuhe + Wechselschuhe und -socken\n 	
 Gute Laune!\n 	(Optional: eigene Kompass- oder OL-Ausrüstung)\n\n\n\n\n\n
 Anmeldung bis zum 17.10.2024 gewünscht\, aber auch spontane Teilnahme mö
 glich.\n
ATTACH;FMTTYPE=image/jpeg:https://ol-edling.de/wp-content/uploads/2024/09/
 Screenshot-2024-10-07-210639.jpg
CATEGORIES:Training
END:VEVENT
BEGIN:VTIMEZONE
TZID:Europe/Berlin
X-LIC-LOCATION:Europe/Berlin
BEGIN:DAYLIGHT
DTSTART:20240331T030000
TZOFFSETFROM:+0100
TZOFFSETTO:+0200
TZNAME:CEST
END:DAYLIGHT
END:VTIMEZONE
END:VCALENDAR