BEGIN:VCALENDAR
VERSION:2.0
PRODID:-//wp-events-plugin.com//7.2.3.1//EN
BEGIN:VEVENT
UID:14@ol-edling.de
DTSTART;TZID=Europe/Berlin:20240927T160000
DTEND;TZID=Europe/Berlin:20240927T180000
DTSTAMP:20240922T091309Z
URL:https://ol-edling.de/events/training-im-wald/
SUMMARY:Training im Wald
DESCRIPTION:Training im Wald! \n\n\n 	Wann: 27.09.2024 – 16 Uhr\n 	Treffp
 unkt: im Wald zwischen Edling und Pfaffing\, nördlich der Verbindungsstra
 ße (siehe Ausschnitt aus google)\n 	Wer:\nAlle Altersgruppen und Fitnessl
 evel sind willkommen! Egal\, ob Du schon Orientierungslauf-Erfahrung\nhast
  oder einfach mal etwas Neues ausprobieren möchtest – jeder kann mitmac
 hen.\n\n\n 	Was erwartet Dich?\n\n 	\n\n 	Einführung in den Orientierungs
 lauf (OL)\n 	leichte und einfache Trainingsbahnen im Wald\n 	Spaß und Bew
 egung an der frischen Luft\n 	Verbesserung von Fitness und Konzentration\n
 \n\n\n\n\n\n 	Mitbringen:\n\n 	\n\n 	Sportliche Kleidung (Witterungsabhän
 gig)\n 	Bequeme Laufschuhe + Wechselschuhe und -socken\n 	Gute Laune!\n 	(
 Optional: eigene Kompass- oder OL-Ausrüstung)\n\n\n\n\n\nAnmeldung bis zu
 m 26.09.2024 gewünscht\, aber auch spontane Teilnahme möglich.\n\n
ATTACH;FMTTYPE=image/jpeg:https://ol-edling.de/wp-content/uploads/2024/09/
 Screenshot-2024-09-22-111107.jpg
CATEGORIES:Training
END:VEVENT
BEGIN:VTIMEZONE
TZID:Europe/Berlin
X-LIC-LOCATION:Europe/Berlin
BEGIN:DAYLIGHT
DTSTART:20240331T030000
TZOFFSETFROM:+0100
TZOFFSETTO:+0200
TZNAME:CEST
END:DAYLIGHT
END:VTIMEZONE
END:VCALENDAR