BEGIN:VCALENDAR
VERSION:2.0
PRODID:-//wp-events-plugin.com//7.2.3.1//EN
BEGIN:VEVENT
UID:2@ol-edling.de
DTSTART;TZID=Europe/Berlin:20240607T160000
DTEND;TZID=Europe/Berlin:20240607T180000
DTSTAMP:20240603T173625Z
URL:https://ol-edling.de/events/training/
SUMMARY:Training
DESCRIPTION:Wir werden uns mit den Grundlagen des Kompass und den Himmelsri
 chtungen beschäftigen. Es wird dafür im Wohngebiet bei der Schule ein bi
 s zwei Übungsbahnen geben. Diese sind nur mit dem Kompass und Textaufgabe
 n zu bewältigen. Zum Abschluss gibt es eine Bahn mit Karte und Kompass. T
 reff ist um 16 Uhr an der Schule.\n\nInhalt von Google Maps anzeigen\n\n\n
 \nIch bitte um Anmeldungen bis zum Mittwoch Abend damit ich die Karten und
  Namensschilder vorbereiten kann.
CATEGORIES:Training
END:VEVENT
BEGIN:VTIMEZONE
TZID:Europe/Berlin
X-LIC-LOCATION:Europe/Berlin
BEGIN:DAYLIGHT
DTSTART:20240331T030000
TZOFFSETFROM:+0100
TZOFFSETTO:+0200
TZNAME:CEST
END:DAYLIGHT
END:VTIMEZONE
END:VCALENDAR